Package: SpatialDecon Version: 1.17.0 Command: /Library/Frameworks/R.framework/Resources/bin/R CMD INSTALL SpatialDecon StartedAt: 2025-02-20 15:25:19 -0500 (Thu, 20 Feb 2025) EndedAt: 2025-02-20 15:25:50 -0500 (Thu, 20 Feb 2025) EllapsedTime: 31.3 seconds RetCode: 0 Status: OK