Package: SpatialDecon Version: 1.17.0 Command: /home/biocbuild/R/R/bin/R CMD INSTALL SpatialDecon StartedAt: 2025-01-29 20:07:19 -0000 (Wed, 29 Jan 2025) EndedAt: 2025-01-29 20:07:51 -0000 (Wed, 29 Jan 2025) EllapsedTime: 32.3 seconds RetCode: 0 Status: OK