Package: SpatialDecon Version: 1.17.0 Command: /home/biocbuild/R/R/bin/R CMD build --keep-empty-dirs --no-resave-data SpatialDecon StartedAt: 2025-01-28 02:37:10 -0000 (Tue, 28 Jan 2025) EndedAt: 2025-01-28 02:41:29 -0000 (Tue, 28 Jan 2025) EllapsedTime: 259.1 seconds RetCode: 0 Status: OK PackageFile: SpatialDecon_1.17.0.tar.gz PackageFileSize: 4.385 MiB