Package: SpatialDecon Version: 1.17.0 Command: /Library/Frameworks/R.framework/Resources/bin/R CMD check --install=check:SpatialDecon.install-out.txt --library=/Library/Frameworks/R.framework/Resources/library --no-vignettes --timings SpatialDecon_1.17.0.tar.gz StartedAt: 2025-02-20 21:33:52 -0500 (Thu, 20 Feb 2025) EndedAt: 2025-02-20 21:37:15 -0500 (Thu, 20 Feb 2025) EllapsedTime: 203.3 seconds RetCode: 0 Status: OK CheckDir: SpatialDecon.Rcheck Warnings: 0