Package: SpatialCPie Version: 1.23.0 Command: chmod a+r SpatialCPie -R && E:\biocbuild\bbs-3.21-bioc\R\bin\R.exe CMD build --keep-empty-dirs --no-resave-data SpatialCPie StartedAt: 2025-02-20 21:57:23 -0500 (Thu, 20 Feb 2025) EndedAt: 2025-02-20 21:58:47 -0500 (Thu, 20 Feb 2025) EllapsedTime: 84.4 seconds RetCode: 0 Status: OK PackageFile: SpatialCPie_1.23.0.tar.gz PackageFileSize: 1011 KiB