Package: SpatialCPie Version: 1.23.0 Command: /Library/Frameworks/R.framework/Resources/bin/R CMD build --keep-empty-dirs --no-resave-data SpatialCPie StartedAt: 2025-02-20 18:21:03 -0500 (Thu, 20 Feb 2025) EndedAt: 2025-02-20 18:21:57 -0500 (Thu, 20 Feb 2025) EllapsedTime: 53.7 seconds RetCode: 0 Status: OK PackageFile: SpatialCPie_1.23.0.tar.gz PackageFileSize: 1.557 MiB