Package: SpatialCPie Version: 1.23.0 Command: /Library/Frameworks/R.framework/Resources/bin/R CMD INSTALL SpatialCPie StartedAt: 2025-02-19 15:15:36 -0500 (Wed, 19 Feb 2025) EndedAt: 2025-02-19 15:15:47 -0500 (Wed, 19 Feb 2025) EllapsedTime: 10.6 seconds RetCode: 0 Status: OK