Package: SparseArray Version: 1.7.6 Command: E:\biocbuild\bbs-3.21-bioc\R\bin\R.exe CMD INSTALL SparseArray StartedAt: 2025-02-20 15:30:11 -0500 (Thu, 20 Feb 2025) EndedAt: 2025-02-20 15:33:19 -0500 (Thu, 20 Feb 2025) EllapsedTime: 187.8 seconds RetCode: 0 Status: OK