Package: SparseArray Version: 1.8.1 Command: /Library/Frameworks/R.framework/Resources/bin/R CMD INSTALL SparseArray StartedAt: 2025-09-29 15:24:20 -0400 (Mon, 29 Sep 2025) EndedAt: 2025-09-29 15:25:17 -0400 (Mon, 29 Sep 2025) EllapsedTime: 56.5 seconds RetCode: 0 Status: OK