Package: SparseArray Version: 1.7.6 Command: /Library/Frameworks/R.framework/Resources/bin/R CMD INSTALL SparseArray StartedAt: 2025-02-20 15:06:57 -0500 (Thu, 20 Feb 2025) EndedAt: 2025-02-20 15:07:30 -0500 (Thu, 20 Feb 2025) EllapsedTime: 32.7 seconds RetCode: 0 Status: OK