Package: SparseArray Version: 1.7.4 Command: /home/biocbuild/R/R/bin/R CMD check --install=check:SparseArray.install-out.txt --library=/home/biocbuild/R/R/site-library --no-vignettes --timings SparseArray_1.7.4.tar.gz StartedAt: 2025-01-28 15:33:20 -0000 (Tue, 28 Jan 2025) EndedAt: 2025-01-28 15:39:01 -0000 (Tue, 28 Jan 2025) EllapsedTime: 341.3 seconds RetCode: 0 Status: OK CheckDir: SparseArray.Rcheck Warnings: 0