Package: SparseArray Version: 1.7.4 Command: /home/biocbuild/R/R/bin/R CMD build --keep-empty-dirs --no-resave-data SparseArray StartedAt: 2025-01-29 02:30:05 -0000 (Wed, 29 Jan 2025) EndedAt: 2025-01-29 02:31:36 -0000 (Wed, 29 Jan 2025) EllapsedTime: 91.1 seconds RetCode: 0 Status: OK PackageFile: SparseArray_1.7.4.tar.gz PackageFileSize: 478.8 KiB