Package: Spaniel Version: 1.21.0 Command: E:\biocbuild\bbs-3.21-bioc\R\bin\R.exe CMD INSTALL Spaniel StartedAt: 2025-02-18 16:48:53 -0500 (Tue, 18 Feb 2025) EndedAt: 2025-02-18 16:49:41 -0500 (Tue, 18 Feb 2025) EllapsedTime: 47.8 seconds RetCode: 0 Status: OK