Package: Spaniel Version: 1.21.0 Command: E:\biocbuild\bbs-3.21-bioc\R\bin\R.exe CMD check --no-multiarch --install=check:Spaniel.install-out.txt --library=E:\biocbuild\bbs-3.21-bioc\R\library --no-vignettes --timings Spaniel_1.21.0.tar.gz StartedAt: 2025-02-19 05:32:18 -0500 (Wed, 19 Feb 2025) EndedAt: 2025-02-19 05:37:09 -0500 (Wed, 19 Feb 2025) EllapsedTime: 291.0 seconds RetCode: 0 Status: OK CheckDir: Spaniel.Rcheck Warnings: 0