Package: Spaniel Version: 1.21.0 Command: /home/biocbuild/bbs-3.21-bioc/R/bin/R CMD build --keep-empty-dirs --no-resave-data Spaniel StartedAt: 2025-02-17 19:14:38 -0500 (Mon, 17 Feb 2025) EndedAt: 2025-02-17 19:17:32 -0500 (Mon, 17 Feb 2025) EllapsedTime: 174.1 seconds RetCode: 0 Status: OK PackageFile: Spaniel_1.21.0.tar.gz PackageFileSize: 3.886 MiB