Package: Spaniel Version: 1.21.0 Command: /Library/Frameworks/R.framework/Resources/bin/R CMD build --keep-empty-dirs --no-resave-data Spaniel StartedAt: 2025-02-17 18:18:53 -0500 (Mon, 17 Feb 2025) EndedAt: 2025-02-17 18:22:02 -0500 (Mon, 17 Feb 2025) EllapsedTime: 188.5 seconds RetCode: 0 Status: OK PackageFile: Spaniel_1.21.0.tar.gz PackageFileSize: 4.46 MiB