Package: Spaniel Version: 1.21.0 Command: /Library/Frameworks/R.framework/Resources/bin/R CMD INSTALL Spaniel StartedAt: 2025-02-17 15:25:44 -0500 (Mon, 17 Feb 2025) EndedAt: 2025-02-17 15:25:59 -0500 (Mon, 17 Feb 2025) EllapsedTime: 15.0 seconds RetCode: 0 Status: OK