Package: Spaniel Version: 1.21.0 Command: /Library/Frameworks/R.framework/Resources/bin/R CMD check --install=check:Spaniel.install-out.txt --library=/Library/Frameworks/R.framework/Resources/library --no-vignettes --timings Spaniel_1.21.0.tar.gz StartedAt: 2025-02-17 21:31:24 -0500 (Mon, 17 Feb 2025) EndedAt: 2025-02-17 21:33:01 -0500 (Mon, 17 Feb 2025) EllapsedTime: 97.1 seconds RetCode: 0 Status: OK CheckDir: Spaniel.Rcheck Warnings: 0