Package: Spaniel Version: 1.21.0 Command: rm -rf Spaniel.buildbin-libdir && mkdir Spaniel.buildbin-libdir && /Users/biocbuild/BBS/utils/build-universal.sh Spaniel_1.21.0.tar.gz /Library/Frameworks/R.framework/Resources/bin/R Spaniel.buildbin-libdir StartedAt: 2025-02-17 22:34:52 -0500 (Mon, 17 Feb 2025) EndedAt: 2025-02-17 22:35:09 -0500 (Mon, 17 Feb 2025) EllapsedTime: 17.4 seconds RetCode: 0 Status: OK PackageFile: Spaniel_1.21.0.tgz PackageFileSize: 4.519 MiB