Package: SpacePAC Version: 1.45.0 Command: E:\biocbuild\bbs-3.21-bioc\R\bin\R.exe CMD check --no-multiarch --install=check:SpacePAC.install-out.txt --library=E:\biocbuild\bbs-3.21-bioc\R\library --no-vignettes --timings SpacePAC_1.45.0.tar.gz StartedAt: 2025-02-20 05:40:21 -0500 (Thu, 20 Feb 2025) EndedAt: 2025-02-20 05:42:49 -0500 (Thu, 20 Feb 2025) EllapsedTime: 147.3 seconds RetCode: 0 Status: OK CheckDir: SpacePAC.Rcheck Warnings: 0