Package: SpaceMarkers Version: 1.3.1 Command: chmod a+r SpaceMarkers -R && E:\biocbuild\bbs-3.21-bioc\R\bin\R.exe CMD build --keep-empty-dirs --no-resave-data SpaceMarkers StartedAt: 2025-02-20 21:55:52 -0500 (Thu, 20 Feb 2025) EndedAt: 2025-02-20 21:59:26 -0500 (Thu, 20 Feb 2025) EllapsedTime: 213.4 seconds RetCode: 0 Status: OK PackageFile: SpaceMarkers_1.3.1.tar.gz PackageFileSize: 2.89 MiB