Package: SpaceMarkers Version: 1.3.1 Command: rm -rf SpaceMarkers.buildbin-libdir && mkdir SpaceMarkers.buildbin-libdir && E:\biocbuild\bbs-3.21-bioc\R\bin\R.exe CMD INSTALL --build --library=SpaceMarkers.buildbin-libdir SpaceMarkers_1.3.1.tar.gz StartedAt: 2025-02-21 09:09:19 -0500 (Fri, 21 Feb 2025) EndedAt: 2025-02-21 09:09:51 -0500 (Fri, 21 Feb 2025) EllapsedTime: 31.8 seconds RetCode: 0 Status: OK PackageFile: SpaceMarkers_1.3.1.zip PackageFileSize: 2.847 MiB