Package: SpaceMarkers Version: 1.3.1 Command: /Library/Frameworks/R.framework/Resources/bin/R CMD INSTALL SpaceMarkers StartedAt: 2025-02-20 15:44:18 -0500 (Thu, 20 Feb 2025) EndedAt: 2025-02-20 15:44:32 -0500 (Thu, 20 Feb 2025) EllapsedTime: 14.2 seconds RetCode: 0 Status: OK