Package: SomaticSignatures Version: 2.43.0 Command: /Library/Frameworks/R.framework/Resources/bin/R CMD build --keep-empty-dirs --no-resave-data SomaticSignatures StartedAt: 2025-02-18 18:17:56 -0500 (Tue, 18 Feb 2025) EndedAt: 2025-02-18 18:20:58 -0500 (Tue, 18 Feb 2025) EllapsedTime: 182.5 seconds RetCode: 0 Status: OK PackageFile: SomaticSignatures_2.43.0.tar.gz PackageFileSize: 2.817 MiB