Package: SingleR Version: 2.9.6 Command: E:\biocbuild\bbs-3.21-bioc\R\bin\R.exe CMD check --no-multiarch --install=check:SingleR.install-out.txt --library=E:\biocbuild\bbs-3.21-bioc\R\library --no-vignettes --timings SingleR_2.9.6.tar.gz StartedAt: 2025-02-21 05:50:36 -0500 (Fri, 21 Feb 2025) EndedAt: 2025-02-21 05:55:45 -0500 (Fri, 21 Feb 2025) EllapsedTime: 309.1 seconds RetCode: 0 Status: OK CheckDir: SingleR.Rcheck Warnings: 0