Package: SingleR Version: 2.9.6 Command: chmod a+r SingleR -R && E:\biocbuild\bbs-3.21-bioc\R\bin\R.exe CMD build --keep-empty-dirs --no-resave-data SingleR StartedAt: 2025-02-20 21:51:54 -0500 (Thu, 20 Feb 2025) EndedAt: 2025-02-20 21:54:33 -0500 (Thu, 20 Feb 2025) EllapsedTime: 159.4 seconds RetCode: 0 Status: OK PackageFile: SingleR_2.9.6.tar.gz PackageFileSize: 464.5 KiB