Package: SingleR Version: 2.9.6 Command: /Library/Frameworks/R.framework/Resources/bin/R CMD INSTALL SingleR StartedAt: 2025-02-19 15:14:20 -0500 (Wed, 19 Feb 2025) EndedAt: 2025-02-19 15:15:31 -0500 (Wed, 19 Feb 2025) EllapsedTime: 71.4 seconds RetCode: 0 Status: OK