Package: SingleR Version: 2.9.6 Command: rm -rf SingleR.buildbin-libdir && mkdir SingleR.buildbin-libdir && /Users/biocbuild/BBS/utils/build-universal.sh SingleR_2.9.6.tar.gz /Library/Frameworks/R.framework/Resources/bin/R SingleR.buildbin-libdir StartedAt: 2025-02-20 00:55:32 -0500 (Thu, 20 Feb 2025) EndedAt: 2025-02-20 00:56:49 -0500 (Thu, 20 Feb 2025) EllapsedTime: 77.5 seconds RetCode: 0 Status: OK PackageFile: SingleR_2.9.6.tgz PackageFileSize: 981.6 KiB