Package: SingleMoleculeFootprinting Version: 2.1.4 Command: E:\biocbuild\bbs-3.21-bioc\R\bin\R.exe CMD check --no-multiarch --install=check:SingleMoleculeFootprinting.install-out.txt --library=E:\biocbuild\bbs-3.21-bioc\R\library --no-vignettes --timings SingleMoleculeFootprinting_2.1.4.tar.gz StartedAt: 2025-02-20 05:33:27 -0500 (Thu, 20 Feb 2025) EndedAt: 2025-02-20 05:42:15 -0500 (Thu, 20 Feb 2025) EllapsedTime: 528.4 seconds RetCode: 0 Status: OK CheckDir: SingleMoleculeFootprinting.Rcheck Warnings: 0