Package: SingleMoleculeFootprinting Version: 2.1.4 Command: chmod a+r SingleMoleculeFootprinting -R && E:\biocbuild\bbs-3.21-bioc\R\bin\R.exe CMD build --keep-empty-dirs --no-resave-data SingleMoleculeFootprinting StartedAt: 2025-02-19 21:43:09 -0500 (Wed, 19 Feb 2025) EndedAt: 2025-02-19 21:48:41 -0500 (Wed, 19 Feb 2025) EllapsedTime: 332.7 seconds RetCode: 0 Status: OK PackageFile: SingleMoleculeFootprinting_2.1.4.tar.gz PackageFileSize: 3.16 MiB