Package: SingleMoleculeFootprinting Version: 2.1.4 Command: rm -rf SingleMoleculeFootprinting.buildbin-libdir && mkdir SingleMoleculeFootprinting.buildbin-libdir && E:\biocbuild\bbs-3.21-bioc\R\bin\R.exe CMD INSTALL --build --library=SingleMoleculeFootprinting.buildbin-libdir SingleMoleculeFootprinting_2.1.4.tar.gz StartedAt: 2025-02-20 08:47:58 -0500 (Thu, 20 Feb 2025) EndedAt: 2025-02-20 08:59:24 -0500 (Thu, 20 Feb 2025) EllapsedTime: 686.0 seconds RetCode: 0 Status: OK PackageFile: SingleMoleculeFootprinting_2.1.4.zip PackageFileSize: 3.361 MiB