Package: SingleMoleculeFootprinting Version: 2.1.4 Command: /Library/Frameworks/R.framework/Resources/bin/R CMD build --keep-empty-dirs --no-resave-data SingleMoleculeFootprinting StartedAt: 2025-02-19 18:18:15 -0500 (Wed, 19 Feb 2025) EndedAt: 2025-02-19 18:21:17 -0500 (Wed, 19 Feb 2025) EllapsedTime: 182.6 seconds RetCode: 0 Status: OK PackageFile: SingleMoleculeFootprinting_2.1.4.tar.gz PackageFileSize: 4.47 MiB