Package: SingleMoleculeFootprinting Version: 2.1.4 Command: /Library/Frameworks/R.framework/Resources/bin/R CMD INSTALL SingleMoleculeFootprinting StartedAt: 2025-02-19 15:14:27 -0500 (Wed, 19 Feb 2025) EndedAt: 2025-02-19 15:14:46 -0500 (Wed, 19 Feb 2025) EllapsedTime: 19.5 seconds RetCode: 0 Status: OK