Package: SingleMoleculeFootprinting Version: 2.1.4 Command: rm -rf SingleMoleculeFootprinting.buildbin-libdir && mkdir SingleMoleculeFootprinting.buildbin-libdir && /Users/biocbuild/BBS/utils/build-universal.sh SingleMoleculeFootprinting_2.1.4.tar.gz /Library/Frameworks/R.framework/Resources/bin/R SingleMoleculeFootprinting.buildbin-libdir StartedAt: 2025-02-19 22:39:07 -0500 (Wed, 19 Feb 2025) EndedAt: 2025-02-19 22:39:29 -0500 (Wed, 19 Feb 2025) EllapsedTime: 21.5 seconds RetCode: 0 Status: OK PackageFile: SingleMoleculeFootprinting_2.1.4.tgz PackageFileSize: 4.663 MiB