Package: SingleMoleculeFootprinting Version: 2.1.4 Maintainer: Guido Barzaghi MaintainerEmail: guido.barzaghi at embl.de git_url: https://git.bioconductor.org/packages/SingleMoleculeFootprinting git_branch: devel git_last_commit: 6cf4334 git_last_commit_date: 2025-02-16 16:53:31 -0500 (Sun, 16 Feb 2025)