Package: SingleCellSignalR Version: 1.19.0 Command: E:\biocbuild\bbs-3.21-bioc\R\bin\R.exe CMD check --no-multiarch --install=check:SingleCellSignalR.install-out.txt --library=E:\biocbuild\bbs-3.21-bioc\R\library --no-vignettes --timings SingleCellSignalR_1.19.0.tar.gz StartedAt: 2025-02-21 05:49:04 -0500 (Fri, 21 Feb 2025) EndedAt: 2025-02-21 05:53:17 -0500 (Fri, 21 Feb 2025) EllapsedTime: 253.3 seconds RetCode: 0 Status: WARNINGS CheckDir: SingleCellSignalR.Rcheck Warnings: 2