Package: SingleCellSignalR Version: 1.19.0 Command: rm -rf SingleCellSignalR.buildbin-libdir && mkdir SingleCellSignalR.buildbin-libdir && E:\biocbuild\bbs-3.21-bioc\R\bin\R.exe CMD INSTALL --build --library=SingleCellSignalR.buildbin-libdir SingleCellSignalR_1.19.0.tar.gz StartedAt: 2025-02-21 09:07:40 -0500 (Fri, 21 Feb 2025) EndedAt: 2025-02-21 09:08:46 -0500 (Fri, 21 Feb 2025) EllapsedTime: 66.3 seconds RetCode: 0 Status: OK PackageFile: SingleCellSignalR_1.19.0.zip PackageFileSize: 6.222 MiB