Package: SingleCellExperiment Version: 1.29.1 Command: chmod a+r SingleCellExperiment -R && E:\biocbuild\bbs-3.21-bioc\R\bin\R.exe CMD build --keep-empty-dirs --no-resave-data SingleCellExperiment StartedAt: 2025-02-20 21:51:14 -0500 (Thu, 20 Feb 2025) EndedAt: 2025-02-20 21:55:38 -0500 (Thu, 20 Feb 2025) EllapsedTime: 263.7 seconds RetCode: 0 Status: OK PackageFile: SingleCellExperiment_1.29.1.tar.gz PackageFileSize: 963.1 KiB