Package: SingleCellExperiment Version: 1.29.1 Command: /home/biocbuild/bbs-3.21-bioc/R/bin/R CMD INSTALL SingleCellExperiment StartedAt: 2025-02-20 15:27:15 -0500 (Thu, 20 Feb 2025) EndedAt: 2025-02-20 15:27:39 -0500 (Thu, 20 Feb 2025) EllapsedTime: 24.7 seconds RetCode: 0 Status: OK