Package: SingleCellExperiment Version: 1.29.1 Command: /Library/Frameworks/R.framework/Resources/bin/R CMD build --keep-empty-dirs --no-resave-data SingleCellExperiment StartedAt: 2025-02-21 17:37:13 -0500 (Fri, 21 Feb 2025) EndedAt: 2025-02-21 17:37:44 -0500 (Fri, 21 Feb 2025) EllapsedTime: 30.4 seconds RetCode: 0 Status: OK PackageFile: SingleCellExperiment_1.29.1.tar.gz PackageFileSize: 962.2 KiB