Package: SingleCellAlleleExperiment Version: 1.3.2 Command: E:\biocbuild\bbs-3.21-bioc\R\bin\R.exe CMD INSTALL SingleCellAlleleExperiment StartedAt: 2025-02-19 15:53:15 -0500 (Wed, 19 Feb 2025) EndedAt: 2025-02-19 15:54:37 -0500 (Wed, 19 Feb 2025) EllapsedTime: 81.2 seconds RetCode: 0 Status: OK