Package: SingleCellAlleleExperiment Version: 1.3.2 Command: /Library/Frameworks/R.framework/Resources/bin/R CMD INSTALL SingleCellAlleleExperiment StartedAt: 2025-02-18 15:09:11 -0500 (Tue, 18 Feb 2025) EndedAt: 2025-02-18 15:09:23 -0500 (Tue, 18 Feb 2025) EllapsedTime: 11.4 seconds RetCode: 0 Status: OK