Package: SingleCellAlleleExperiment Version: 1.3.2 Command: /Library/Frameworks/R.framework/Resources/bin/R CMD check --install=check:SingleCellAlleleExperiment.install-out.txt --library=/Library/Frameworks/R.framework/Resources/library --no-vignettes --timings SingleCellAlleleExperiment_1.3.2.tar.gz StartedAt: 2025-02-19 21:31:28 -0500 (Wed, 19 Feb 2025) EndedAt: 2025-02-19 21:35:03 -0500 (Wed, 19 Feb 2025) EllapsedTime: 215.5 seconds RetCode: 0 Status: OK CheckDir: SingleCellAlleleExperiment.Rcheck Warnings: 0