Package: SingleCellAlleleExperiment Version: 1.3.2 Maintainer: Jonas Schuck MaintainerEmail: jschuckdev at gmail.com git_url: https://git.bioconductor.org/packages/SingleCellAlleleExperiment git_branch: devel git_last_commit: 8b0584d git_last_commit_date: 2025-01-27 04:12:32 -0500 (Mon, 27 Jan 2025)