Package: SimFFPE Version: 1.19.0 Command: E:\biocbuild\bbs-3.21-bioc\R\bin\R.exe CMD INSTALL SimFFPE StartedAt: 2025-02-20 15:40:55 -0500 (Thu, 20 Feb 2025) EndedAt: 2025-02-20 15:41:14 -0500 (Thu, 20 Feb 2025) EllapsedTime: 19.1 seconds RetCode: 0 Status: OK