Package: SimFFPE Version: 1.19.0 Command: chmod a+r SimFFPE -R && E:\biocbuild\bbs-3.21-bioc\R\bin\R.exe CMD build --keep-empty-dirs --no-resave-data SimFFPE StartedAt: 2025-02-20 21:50:10 -0500 (Thu, 20 Feb 2025) EndedAt: 2025-02-20 21:51:53 -0500 (Thu, 20 Feb 2025) EllapsedTime: 102.1 seconds RetCode: 0 Status: OK PackageFile: SimFFPE_1.19.0.tar.gz PackageFileSize: 749.8 KiB