Package: SimFFPE Version: 1.19.0 Command: rm -rf SimFFPE.buildbin-libdir && mkdir SimFFPE.buildbin-libdir && /Users/biocbuild/BBS/utils/build-universal.sh SimFFPE_1.19.0.tar.gz /Library/Frameworks/R.framework/Resources/bin/R SimFFPE.buildbin-libdir StartedAt: 2025-02-21 00:54:03 -0500 (Fri, 21 Feb 2025) EndedAt: 2025-02-21 00:54:26 -0500 (Fri, 21 Feb 2025) EllapsedTime: 23.2 seconds RetCode: 0 Status: OK PackageFile: SimFFPE_1.19.0.tgz PackageFileSize: 807.4 KiB