Package: SimBu Version: 1.9.0 Command: /home/biocbuild/bbs-3.21-bioc/R/bin/R CMD check --install=check:SimBu.install-out.txt --library=/home/biocbuild/bbs-3.21-bioc/R/site-library --timings SimBu_1.9.0.tar.gz StartedAt: 2025-02-21 01:55:21 -0500 (Fri, 21 Feb 2025) EndedAt: 2025-02-21 01:58:51 -0500 (Fri, 21 Feb 2025) EllapsedTime: 210.3 seconds RetCode: 0 Status: OK CheckDir: SimBu.Rcheck Warnings: 0