Package: SimBu Version: 1.9.0 Command: /home/biocbuild/bbs-3.21-bioc/R/bin/R CMD build --keep-empty-dirs --no-resave-data SimBu StartedAt: 2025-02-20 19:18:25 -0500 (Thu, 20 Feb 2025) EndedAt: 2025-02-20 19:19:05 -0500 (Thu, 20 Feb 2025) EllapsedTime: 40.0 seconds RetCode: 0 Status: OK PackageFile: SimBu_1.9.0.tar.gz PackageFileSize: 216 KiB