Package: SimBu Version: 1.9.0 Command: /Library/Frameworks/R.framework/Resources/bin/R CMD build --keep-empty-dirs --no-resave-data SimBu StartedAt: 2025-02-19 18:17:38 -0500 (Wed, 19 Feb 2025) EndedAt: 2025-02-19 18:18:30 -0500 (Wed, 19 Feb 2025) EllapsedTime: 51.5 seconds RetCode: 0 Status: OK PackageFile: SimBu_1.9.0.tar.gz PackageFileSize: 220.7 KiB